BEGIN:VCALENDAR
VERSION:2.0
PRODID:-//hacksw/handcal//NONSGML v1.0//EN
BEGIN:VEVENT
UID:13f13eb7cbb88456c93db0b704218879
DTSTAMP:20260420T010933Z

DTSTART:20260516T130000
DTEND:20260516T180000
SUMMARY:Test-Treffen zur Planung für ein SOS-Event
DESCRIPTION:Das ist eine Testbeschreibung

X-ALT-DESC;FMTTYPE=text/html:<!DOCTYPE HTML PUBLIC "-//W3C//DTD HTML 3.2//EN">\n<HTML>\n<HEAD>\n<META NAME="Generator" CONTENT="MS Exchange Server version 08.00.0681.000">\n<TITLE></TITLE>\n</HEAD>\n<BODY>\n<!-- Converted from text/rtf format -->\n\nDas ist eine Testbeschreibung\n\n</BODY>\n</HTML>

LOCATION:23e, Lauterbachstraße, Gewerbegebiet Gelting, Gelting, Geretsried, Landkreis Bad Tölz-Wolfratshausen, Bayern, 82538, Deutschland
END:VEVENT

END:VCALENDAR
